BEGIN:VCALENDAR
VERSION:2.0
PRODID:-//eventon.com NONSGML v1.0//EN
CALSCALE:GREGORIAN
METHOD:PUBLISH
BEGIN:VEVENT
UID:69e8869a5972b
DTSTAMP:20260422T082810Z
DTSTART:20261011T060000Z
DTEND:20261011T105900Z
LOCATION:Lingo Center 10284 Louisiana 17
SUMMARY:Lingo Center - Oak Grove\,  LA
DESCRIPTION:Frank Foster will be live at Lingo Center &#8211; Oak Grove\,  
 LA &#8211; Saturday\,  October 10th\,  2026 GET YOUR TICKETS\nhttps://frank
 fostermusic.com/events/lingo-center-oak-grove-la/
URL:https://frankfostermusic.com/events/lingo-center-oak-grove-la/
END:VEVENT
END:VCALENDAR