BEGIN:VCALENDAR
VERSION:2.0
PRODID:-//eventon.com NONSGML v1.0//EN
CALSCALE:GREGORIAN
METHOD:PUBLISH
BEGIN:VEVENT
UID:69e8a38be4f86
DTSTAMP:20260422T103139Z
DTSTART:20260418T063000Z
DTEND:20260418T105900Z
LOCATION:The Hall at Bourbon Brothers 312 Jesse Jewell Pkwy
SUMMARY:The Hall at Bourbon Brothers - Gainesville\,  GA
DESCRIPTION:Frank Foster will be live at The Hall at Bourbon Brothers &#821
 1; Gainesville\,  GA &#8211; Friday\,  April 17th\,  2026 GET YOUR TICKETS\
 nhttps://frankfostermusic.com/events/the-hall-at-bourbon-brothers-gainesvil
 le-ga/
URL:https://frankfostermusic.com/events/the-hall-at-bourbon-brothers-gainesville-ga/
END:VEVENT
END:VCALENDAR