BEGIN:VCALENDAR
VERSION:2.0
PRODID:-//eventon.com NONSGML v1.0//EN
CALSCALE:GREGORIAN
METHOD:PUBLISH
BEGIN:VEVENT
UID:69e4d2ba08a2a
DTSTAMP:20260419T130354Z
DTSTART:20250906T080000Z
DTEND:20250906T105900Z
LOCATION:The Texas Club 456 N Donmoor Avenue\,  Baton Rouge\,  LA
SUMMARY:The Texas Club - Baton Rouge\,  LA
DESCRIPTION:Frank Foster will be live at The Texas Club &#8211; Baton Rouge
 \,  LA &#8211; Friday\,  September 5th\,  2025 &#8211; Book Now! GET YOUR T
 ICKETS\nhttps://frankfostermusic.com/events/the-texas-club-baton-rouge-la-2
 /
URL:https://frankfostermusic.com/events/the-texas-club-baton-rouge-la-2/
END:VEVENT
END:VCALENDAR