BEGIN:VCALENDAR
VERSION:2.0
PRODID:-//eventon.com NONSGML v1.0//EN
CALSCALE:GREGORIAN
METHOD:PUBLISH
BEGIN:VEVENT
UID:69e88307e9db3
DTSTAMP:20260422T081255Z
DTSTART:20251019T050000Z
DTEND:20251019T105900Z
LOCATION:LA Legends Fest 514 North Main
SUMMARY:LA Legends Fest - Homer\,  LA
DESCRIPTION:Frank Foster will be live at the LA Legends Fest\,  Homer\,  LA
  &#8211; Saturday\,  October 18th\,  2025 &#8211; Book Now! GET YOUR TICKET
 S\nhttps://frankfostermusic.com/events/la-legends-fest-homer-la/
URL:https://frankfostermusic.com/events/la-legends-fest-homer-la/
END:VEVENT
END:VCALENDAR