BEGIN:VCALENDAR
VERSION:2.0
PRODID:-//eventon.com NONSGML v1.0//EN
CALSCALE:GREGORIAN
METHOD:PUBLISH
BEGIN:VEVENT
UID:69e5e632b27cb
DTSTAMP:20260420T083914Z
DTSTART:20250315T060000Z
DTEND:20250315T105900Z
LOCATION:Furniture Factory Bar &amp; Grill 619 Meridian Street North
SUMMARY:Furniture Factory Bar & Grill - Huntsville\,  AL
DESCRIPTION:Frank Foster will be live at Furniture Factory Bar &#038; Grill
  &#8211; Huntsville\,  AL &#8211; Friday\,  March 14th\,  2025 &#8211; Book
  Now! GET YOUR TICKETS\nhttps://frankfostermusic.com/events/furniture-facto
 ry-bar-grill-huntsville-al/
URL:https://frankfostermusic.com/events/furniture-factory-bar-grill-huntsville-al/
END:VEVENT
END:VCALENDAR