BEGIN:VCALENDAR
VERSION:2.0
PRODID:-//eventon.com NONSGML v1.0//EN
CALSCALE:GREGORIAN
METHOD:PUBLISH
BEGIN:VEVENT
UID:69e5e467a8d24
DTSTAMP:20260420T083135Z
DTSTART:20241005T070000Z
DTEND:20241005T105900Z
LOCATION:Minglewood Hall 1555 Madison Ave
SUMMARY:Minglewood Hall - Memphis\,  TN
DESCRIPTION:Frank Foster will be live at Minglewood Hall &#8211; Memphis\, 
  TN &#8211; Friday\,  October 4th\,  2024 &#8211; Book Now! TICKETS\nhttps:
 //frankfostermusic.com/events/minglewood-hall-memphis-tn-2/
URL:https://frankfostermusic.com/events/minglewood-hall-memphis-tn-2/
END:VEVENT
END:VCALENDAR