BEGIN:VCALENDAR
VERSION:2.0
PRODID:-//eventon.com NONSGML v1.0//EN
CALSCALE:GREGORIAN
METHOD:PUBLISH
BEGIN:VEVENT
UID:69e88548ebf9c
DTSTAMP:20260422T082232Z
DTSTART:20230812T060000Z
DTEND:20230812T105000Z
LOCATION:Wild Greg&#039;s Saloon 22 South Palafox Street
SUMMARY:Wild Greg's Saloon - Pensacola\,  FL
DESCRIPTION:FRANK FOSTER WILL BE PERFORMING LIVE AT WILD GREG&#8217;S SALOO
 N &#8211; PENSACOLA\,  FL- Friday\,  August 11th \,  2023 &#8211; BOOK NOW!
  TICKETS\nhttps://frankfostermusic.com/events/wild-gregs-saloon-pensacola-f
 l/
URL:https://frankfostermusic.com/events/wild-gregs-saloon-pensacola-fl/
END:VEVENT
END:VCALENDAR