BEGIN:VCALENDAR
VERSION:2.0
PRODID:-//eventon.com NONSGML v1.0//EN
CALSCALE:GREGORIAN
METHOD:PUBLISH
BEGIN:VEVENT
UID:69e4d7dfc005f
DTSTAMP:20260419T132551Z
DTSTART:20230903T050000Z
DTEND:20230903T105000Z
LOCATION:CYPRESS BOTTOM BOOGIE 4 1084 Cypress Bottom Road
SUMMARY:Cypress Bottom Boogie 4\,  Album Release Show - Haynesville\,  LA
DESCRIPTION:FRANK FOSTER WILL BE PERFORMING LIVE AT CYPRESS BOTTOM BOOGIE 4
  &#8211; HAYNESVILLE\,  LA &#8211; ALBUM RELEASE SHOW &#8211; Saturday\,  S
 EP 2ND \,  2023 &#8211; BOOK NOW! TICKETS\nhttps://frankfostermusic.com/eve
 nts/cypress-bottom-boogie-4-haynesville-la/
URL:https://frankfostermusic.com/events/cypress-bottom-boogie-4-haynesville-la/
END:VEVENT
END:VCALENDAR