BEGIN:VCALENDAR
VERSION:2.0
PRODID:-//eventon.com NONSGML v1.0//EN
CALSCALE:GREGORIAN
METHOD:PUBLISH
BEGIN:VEVENT
UID:69e5e4c43b6eb
DTSTAMP:20260420T083308Z
DTSTART:20230128T060000Z
DTEND:20230128T105000Z
LOCATION:Gillioz Theatre
SUMMARY:Gillioz Theatre - Springfield\,  MO
DESCRIPTION:FRANK FOSTER WILL BE LIVE AT THE GILLIOZ THEATRE &#8211; SPRING
 FIELD\,  MO &#8211; Friday\,  January 27th \,  2023 &#8211; BOOK NOW! TICKE
 TS\nhttps://frankfostermusic.com/events/gillioz-theatre-springfield-mo/
URL:https://frankfostermusic.com/events/gillioz-theatre-springfield-mo/
END:VEVENT
END:VCALENDAR