BEGIN:VCALENDAR
VERSION:2.0
PRODID:-//eventon.com NONSGML v1.0//EN
CALSCALE:GREGORIAN
METHOD:PUBLISH
BEGIN:VEVENT
UID:69e732351fc25
DTSTAMP:20260421T081549Z
DTSTART:20220820T070000Z
DTEND:20220820T105000Z
LOCATION:Rick&#039;s Cafe 319 B Hwy 182 East
SUMMARY:Rick's Cafe - Starkville\,  MS
DESCRIPTION:Frank Foster will be live at Rick&#8217;s Cafe &#8211; Starkvil
 le\,  MS &#8211; Friday\,  August 19\,  2022 &#8211; BOOK NOW! TICKETS\nhtt
 ps://frankfostermusic.com/events/ricks-cafe-starkville-ms/
URL:https://frankfostermusic.com/events/ricks-cafe-starkville-ms/
END:VEVENT
END:VCALENDAR