BEGIN:VCALENDAR
VERSION:2.0
PRODID:-//eventon.com NONSGML v1.0//EN
CALSCALE:GREGORIAN
METHOD:PUBLISH
BEGIN:VEVENT
UID:69e7330508627
DTSTAMP:20260421T081917Z
DTSTART:20220226T190000Z
DTEND:20220226T235000Z
LOCATION:The Machine Shop 3539 S. Dort Hwy
SUMMARY:The Machine Shop- Flint\,  MI
DESCRIPTION:Frank Foster is Live at The Machine Shop in Flint\,  MI- Saturd
 ay\,  February 26\,  2022 Doors open 7:00PM TICKETS\nhttps://frankfostermus
 ic.com/events/the-machine-shop-flint-mi/
URL:https://frankfostermusic.com/events/the-machine-shop-flint-mi/
END:VEVENT
END:VCALENDAR